BEGIN:VCALENDAR
PRODID:-//Solspace/Calendar 2.x//EN
VERSION:2.0
CALSCALE:GREGORIAN
BEGIN:VEVENT
UID:45d8cf103536730913674e9a294719b8@solspace.com
DTSTAMP:20260421T090336
DTSTART:20260319T190000
DTEND:20260319T210000
SUMMARY:Interpreter Community of Practice Series: Session 5 (SOLD OU
 T)
END:VEVENT
END:VCALENDAR
