BEGIN:VCALENDAR
PRODID:-//Solspace/Calendar 2.x//EN
VERSION:2.0
CALSCALE:GREGORIAN
BEGIN:VEVENT
UID:867c00fbe26c6b312fdd9d1f90325b5f@solspace.com
DTSTAMP:20260421T084138
DTSTART:20250911T130000
DTEND:20250911T150000
RRULE:FREQ=WEEKLY;UNTIL=20251231T235959Z;INTERVAL=2;BYDAY=TH
EXDATE:20250925T130000,20251218T130000
SUMMARY:DEAFinitely Learning Workshop
END:VEVENT
END:VCALENDAR
