BEGIN:VCALENDAR
PRODID:-//Solspace/Calendar 2.x//EN
VERSION:2.0
CALSCALE:GREGORIAN
BEGIN:VEVENT
UID:d95a0592876f77d65a0ad15d368262d7@solspace.com
DTSTAMP:20260421T122254
DTSTART:20260404T190000
DTEND:20260404T210000
SUMMARY:Cleveland Monsters vs. Milwaukee Admirals with New Partners 
 of CHSC
END:VEVENT
END:VCALENDAR
